BEGIN:VCALENDAR
VERSION:2.0
PRODID:-//心と体が疲れた時に読むブログ - ECPv5.0.3.1//NONSGML v1.0//EN
CALSCALE:GREGORIAN
METHOD:PUBLISH
X-WR-CALNAME:心と体が疲れた時に読むブログ
X-ORIGINAL-URL:https://miyufine.com
X-WR-CALDESC:心と体が疲れた時に読むブログ のイベント
BEGIN:VTIMEZONE

END:VTIMEZONE
BEGIN:VEVENT
DTSTART;TZID=Asia/Tokyo:19700101T000000
DTEND;TZID=Asia/Tokyo:19700101T000000
DTSTAMP:20260421T082256
CREATED:20171228T033556Z
LAST-MODIFIED:20171228T033556Z
UID:776-0-0@miyufine.com
SUMMARY:疲れやすい方、やりたいことがあってもやれない方のためのワークショップ　　体験コースもあります
DESCRIPTION:【渋谷ウイメンズプラザの活動】　※前日20時までにはお申込みください。\n\n日程と講師 \n1月20日（土）　海津　賢　　 \n  \n\nアレクサンダー・テクニーク　テイスティングレッスン\n\n体をゆるくして遊んだり、横になったりします。教師のサポートを通して、体や心を自由にする体験をしていただきます。　参加してみて、興味がわいたら、次の時間の②のコースの参加が可能です。 \n時間：9時20分から30分間 \n料金：500円 \n  \n\n疲れやすい方、やりたいことがあってもできない方のためのワークショップ　\n\n心や体と静かに向き合い、ご自身の習慣を見つめることを通して、体のもともともっている機能を回復するお手伝いをいたします。 \n時間：10時～11時40分　　 \n料金：3000円　 \n  \n・早割特典　2500円　１週間前までにお振り込みされた方\n（キャンセルされた場合、返金はできませんが、後日の参加が可能です） \n\n・感想（公開可能に限る・匿名可）特典　2000円　　割引併用不可 \n☆こちらのフォームよりお申込みください \n\n\n\n\n\n\n\n\n\n\n\n お名前 (必須)\n      \n メールアドレス (必須)\n      \nお電話番号（必須）\n \n 参加されるイベント名、日時をお書きください。\n今後のイベントのご案内が必要な方はその旨をご記入ください。\n      \n確認画面は表示されません。上記の内容でよければチェックのほどよろしくお願いいたします。 \n \n\n\n今後のイベント	現在予定されているイベントはありません。 \n\n心と体のケアとネイル　　　Kotoriサロン
URL:https://miyufine.com/event/%e7%96%b2%e3%82%8c%e3%82%84%e3%81%99%e3%81%84%e6%96%b9%e3%80%81%e3%82%84%e3%82%8a%e3%81%9f%e3%81%84%e3%81%93%e3%81%a8%e3%81%8c%e3%81%82%e3%81%a3%e3%81%a6%e3%82%82%e3%82%84%e3%82%8c%e3%81%aa%e3%81%84/
LOCATION:渋谷ウイメンズプラザ\, 東京都渋谷区神宮前5-53-67\, 東京都\, 150-0001\, Japan
ORGANIZER;CN="kotori%E2%9C%B4ringo%20%EF%BC%88MIYUKI%EF%BC%89%E3%80%80":MAILTO:miyufine@jcom.zaq.nejp
END:VEVENT
END:VCALENDAR